BEGIN:VCALENDAR
VERSION:2.0
PRODID:-//foodsafetyonline - ECPv4.5.1//NONSGML v1.0//EN
CALSCALE:GREGORIAN
METHOD:PUBLISH
X-WR-CALNAME:foodsafetyonline
X-ORIGINAL-URL:https://foodsafetyonline.ie
X-WR-CALDESC:Events for foodsafetyonline
BEGIN:VEVENT
DTSTART;TZID=UTC+0:20160721T000000
DTEND;TZID=UTC+0:20160721T160000
DTSTAMP:20260424T155032
CREATED:20160228T101102Z
LAST-MODIFIED:20160228T101102Z
UID:110-1469059200-1469116800@foodsafetyonline.ie
SUMMARY:Brandon Hall Technology Awards
DESCRIPTION:Humans are creative beings. This text will not appear in a consistent order. Your design looks awesome by the way. After Hours Programming created this application. Default text creates the illusion of real text.
URL:https://foodsafetyonline.ie/event/brandon-hall-technology-awards/
LOCATION:130 ohua street. Miami\, Hi 96518 US Saint Augustine
CATEGORIES:Workshop
ATTACH;FMTTYPE=image/jpeg:https://foodsafetyonline.ie/wp-content/uploads/2016/02/event5-1.jpg
ORGANIZER;CN="University":MAILTO:info@webnus.biz
END:VEVENT
END:VCALENDAR