BEGIN:VCALENDAR
VERSION:2.0
PRODID:-//foodsafetyonline - ECPv4.5.1//NONSGML v1.0//EN
CALSCALE:GREGORIAN
METHOD:PUBLISH
X-WR-CALNAME:foodsafetyonline
X-ORIGINAL-URL:https://foodsafetyonline.ie
X-WR-CALDESC:Events for foodsafetyonline
BEGIN:VEVENT
DTSTART;TZID=UTC+0:20160718T020000
DTEND;TZID=UTC+0:20160718T150000
DTSTAMP:20260425T212537
CREATED:20160228T100001Z
LAST-MODIFIED:20160228T100001Z
UID:98-1468807200-1468854000@foodsafetyonline.ie
SUMMARY:Weekend Worship Services
DESCRIPTION:Humans are creative beings. This text will not appear in a consistent order. Your design looks awesome by the way. After Hours Programming created this application. Default text creates the illusion of real text.
URL:https://foodsafetyonline.ie/event/weekend-worship-services/
LOCATION:130 ohua street. Miami\, Hi 96518 US Saint Augustine
CATEGORIES:Workshop
ATTACH;FMTTYPE=image/jpeg:https://foodsafetyonline.ie/wp-content/uploads/2016/02/event10-1.jpg
ORGANIZER;CN="University":MAILTO:info@webnus.biz
END:VEVENT
BEGIN:VEVENT
DTSTART;TZID=UTC+0:20160718T080000
DTEND;TZID=UTC+0:20160718T170000
DTSTAMP:20260425T212537
CREATED:20160228T094959Z
LAST-MODIFIED:20160228T094959Z
UID:92-1468828800-1468861200@foodsafetyonline.ie
SUMMARY:Learning Solutions
DESCRIPTION:Humans are creative beings. This text will not appear in a consistent order. Your design looks awesome by the way. After Hours Programming created this application. Default text creates the illusion of real text.
URL:https://foodsafetyonline.ie/event/learning-solutions/
LOCATION:130 ohua street. Miami\, Hi 96518 US Saint Augustine
CATEGORIES:Workshop
ATTACH;FMTTYPE=image/jpeg:https://foodsafetyonline.ie/wp-content/uploads/2016/02/event2-1.jpg
ORGANIZER;CN="University":MAILTO:info@webnus.biz
END:VEVENT
BEGIN:VEVENT
DTSTART;TZID=UTC+0:20160718T080000
DTEND;TZID=UTC+0:20160718T170000
DTSTAMP:20260425T212537
CREATED:20160718T071843Z
LAST-MODIFIED:20160718T071843Z
UID:9517-1468828800-1468861200@foodsafetyonline.ie
SUMMARY:Learning Technologies and Learning and Skills
DESCRIPTION:Humans are creative beings. This text will not appear in a consistent order. Your design looks awesome by the way. After Hours Programming created this application. Default text creates the illusion of real text.
URL:https://foodsafetyonline.ie/event/learning-technologies-and-learning-and-skills-3/
LOCATION:130 ohua street. Miami\, Hi 96518 US Saint Augustine
CATEGORIES:Workshop
ATTACH;FMTTYPE=image/jpeg:https://foodsafetyonline.ie/wp-content/uploads/2016/02/event9-1.jpg
ORGANIZER;CN="University":MAILTO:info@webnus.biz
END:VEVENT
BEGIN:VEVENT
DTSTART;TZID=UTC+0:20160718T080000
DTEND;TZID=UTC+0:20160718T170000
DTSTAMP:20260425T212537
CREATED:20160718T073609Z
LAST-MODIFIED:20160718T073609Z
UID:9519-1468828800-1468861200@foodsafetyonline.ie
SUMMARY:Learning Technologies and Learning and Skills
DESCRIPTION:Humans are creative beings. This text will not appear in a consistent order. Your design looks awesome by the way. After Hours Programming created this application. Default text creates the illusion of real text.
URL:https://foodsafetyonline.ie/event/learning-technologies-and-learning-and-skills-4/
LOCATION:130 ohua street. Miami\, Hi 96518 US Saint Augustine
CATEGORIES:Workshop
ATTACH;FMTTYPE=image/jpeg:https://foodsafetyonline.ie/wp-content/uploads/2016/02/event9-1.jpg
ORGANIZER;CN="University":MAILTO:info@webnus.biz
END:VEVENT
END:VCALENDAR